BEGIN:VCALENDAR
VERSION:2.0
PRODID:-//Virginia Genealogical Society - ECPv6.15.20//NONSGML v1.0//EN
CALSCALE:GREGORIAN
METHOD:PUBLISH
X-WR-CALNAME:Virginia Genealogical Society
X-ORIGINAL-URL:https://www.vgs.org
X-WR-CALDESC:Events for Virginia Genealogical Society
REFRESH-INTERVAL;VALUE=DURATION:PT1H
X-Robots-Tag:noindex
X-PUBLISHED-TTL:PT1H
BEGIN:VTIMEZONE
TZID:America/New_York
BEGIN:DAYLIGHT
TZOFFSETFROM:-0500
TZOFFSETTO:-0400
TZNAME:EDT
DTSTART:20250309T070000
END:DAYLIGHT
BEGIN:STANDARD
TZOFFSETFROM:-0400
TZOFFSETTO:-0500
TZNAME:EST
DTSTART:20251102T060000
END:STANDARD
BEGIN:DAYLIGHT
TZOFFSETFROM:-0500
TZOFFSETTO:-0400
TZNAME:EDT
DTSTART:20260308T070000
END:DAYLIGHT
BEGIN:STANDARD
TZOFFSETFROM:-0400
TZOFFSETTO:-0500
TZNAME:EST
DTSTART:20261101T060000
END:STANDARD
BEGIN:DAYLIGHT
TZOFFSETFROM:-0500
TZOFFSETTO:-0400
TZNAME:EDT
DTSTART:20270314T070000
END:DAYLIGHT
BEGIN:STANDARD
TZOFFSETFROM:-0400
TZOFFSETTO:-0500
TZNAME:EST
DTSTART:20271107T060000
END:STANDARD
END:VTIMEZONE
BEGIN:VEVENT
DTSTART;TZID=America/New_York:20260211T190000
DTEND;TZID=America/New_York:20260211T200000
DTSTAMP:20260423T172627
CREATED:20251002T071842Z
LAST-MODIFIED:20260204T001453Z
UID:6629-1770836400-1770840000@www.vgs.org
SUMMARY:Webinar - In Conversation with Joseph Roby: Discussing The Enslaved at Oakley and Beyond Project [11 Feb 2026]
DESCRIPTION:Researching enslaved individuals is often challenging\, particularly when records name the enslaved only indirectly or not at all. In many cases\, locating and thoroughly analyzing records created by enslavers is the key to identifying and tracing African American lives across time. The Enslaved at Oakley & Beyond Project demonstrates how careful\, contextual research into enslavers and their families can illuminate the lives of those they enslaved—and how responsibly locating\, analyzing\, and sharing these records is essential to that work. \nThis program will depart from a traditional webinar format and take the form of a moderated conversation with Joseph Roby (The Enslaved at Oakley & Beyond Project)\, Kelley Conner Lear\, CG®\, and Dr. Shelley Viola Murphy. Together\, they’ll discuss methodology\, interpretation\, and ethical considerations in this type of research. Time will be reserved at the end of the session for audience questions. \nRegister at https://tinyurl.com/VGSFeb2026
URL:https://www.vgs.org/event/webinar-in-conversation-with-joseph-roby-11-feb-2026/
CATEGORIES:VGS Events
ATTACH;FMTTYPE=image/png:https://www.vgs.org/wp-content/uploads/2025/10/Roby-image.png
END:VEVENT
END:VCALENDAR