BEGIN:VCALENDAR
VERSION:2.0
PRODID:-//Virginia Genealogical Society - ECPv6.15.20//NONSGML v1.0//EN
CALSCALE:GREGORIAN
METHOD:PUBLISH
X-WR-CALNAME:Virginia Genealogical Society
X-ORIGINAL-URL:https://www.vgs.org
X-WR-CALDESC:Events for Virginia Genealogical Society
REFRESH-INTERVAL;VALUE=DURATION:PT1H
X-Robots-Tag:noindex
X-PUBLISHED-TTL:PT1H
BEGIN:VTIMEZONE
TZID:America/New_York
BEGIN:DAYLIGHT
TZOFFSETFROM:-0500
TZOFFSETTO:-0400
TZNAME:EDT
DTSTART:20250309T070000
END:DAYLIGHT
BEGIN:STANDARD
TZOFFSETFROM:-0400
TZOFFSETTO:-0500
TZNAME:EST
DTSTART:20251102T060000
END:STANDARD
BEGIN:DAYLIGHT
TZOFFSETFROM:-0500
TZOFFSETTO:-0400
TZNAME:EDT
DTSTART:20260308T070000
END:DAYLIGHT
BEGIN:STANDARD
TZOFFSETFROM:-0400
TZOFFSETTO:-0500
TZNAME:EST
DTSTART:20261101T060000
END:STANDARD
BEGIN:DAYLIGHT
TZOFFSETFROM:-0500
TZOFFSETTO:-0400
TZNAME:EDT
DTSTART:20270314T070000
END:DAYLIGHT
BEGIN:STANDARD
TZOFFSETFROM:-0400
TZOFFSETTO:-0500
TZNAME:EST
DTSTART:20271107T060000
END:STANDARD
END:VTIMEZONE
BEGIN:VEVENT
DTSTART;TZID=America/New_York:20260121T190000
DTEND;TZID=America/New_York:20260121T200000
DTSTAMP:20260423T190247
CREATED:20251106T225112Z
LAST-MODIFIED:20251106T225112Z
UID:6902-1769022000-1769025600@www.vgs.org
SUMMARY:VGS: Barbara's Book Club - January Discussion [21 Jan 2026]
DESCRIPTION:Join us for the first meeting of Barbara’s Book Club\, a new discussion series exploring Barbara Vines Little’s A Researcher’s Guide to Virginia’s Historical Records. This month’s session\, led by Kelley Conner Lear\, CG®\, will focus on Chapters 1 and 2\, which examine Virginia’s geography and transportation and the impact of record availability at the colony\, state\, and local levels. \nWhether you are new to Virginia research or looking to deepen your understanding of the historical context behind its record systems\, this informal discussion offers an opportunity to learn from fellow researchers and share insights about navigating the complexities of Virginia’s past. All that’s required is your copy of the book\, your questions\, and your curiosity! \nSee https://www.vgs.org/wp-content/uploads/2025/11/BarbarasBookClub_Chap1and2.pdf for a list of questions to prompt our discussion. \nRegister at https://tinyurl.com/VGSBookClubJan2026
URL:https://www.vgs.org/event/vgs-barbaras-book-club-january-discussion-21-jan-2026/
CATEGORIES:VGS Events
ORGANIZER;CN="Virginia Genealogical Society":MAILTO:admin@vgs.org
END:VEVENT
END:VCALENDAR