BEGIN:VCALENDAR
VERSION:2.0
PRODID:-//Virginia Genealogical Society - ECPv6.15.20//NONSGML v1.0//EN
CALSCALE:GREGORIAN
METHOD:PUBLISH
X-WR-CALNAME:Virginia Genealogical Society
X-ORIGINAL-URL:https://www.vgs.org
X-WR-CALDESC:Events for Virginia Genealogical Society
REFRESH-INTERVAL;VALUE=DURATION:PT1H
X-Robots-Tag:noindex
X-PUBLISHED-TTL:PT1H
BEGIN:VTIMEZONE
TZID:America/New_York
BEGIN:DAYLIGHT
TZOFFSETFROM:-0500
TZOFFSETTO:-0400
TZNAME:EDT
DTSTART:20240310T070000
END:DAYLIGHT
BEGIN:STANDARD
TZOFFSETFROM:-0400
TZOFFSETTO:-0500
TZNAME:EST
DTSTART:20241103T060000
END:STANDARD
BEGIN:DAYLIGHT
TZOFFSETFROM:-0500
TZOFFSETTO:-0400
TZNAME:EDT
DTSTART:20250309T070000
END:DAYLIGHT
BEGIN:STANDARD
TZOFFSETFROM:-0400
TZOFFSETTO:-0500
TZNAME:EST
DTSTART:20251102T060000
END:STANDARD
BEGIN:DAYLIGHT
TZOFFSETFROM:-0500
TZOFFSETTO:-0400
TZNAME:EDT
DTSTART:20260308T070000
END:DAYLIGHT
BEGIN:STANDARD
TZOFFSETFROM:-0400
TZOFFSETTO:-0500
TZNAME:EST
DTSTART:20261101T060000
END:STANDARD
END:VTIMEZONE
BEGIN:VEVENT
DTSTART;TZID=America/New_York:20250212T190000
DTEND;TZID=America/New_York:20250212T200000
DTSTAMP:20260424T160257
CREATED:20241118T184051Z
LAST-MODIFIED:20250129T185052Z
UID:5489-1739386800-1739390400@www.vgs.org
SUMMARY:Webinar [12 Feb 2025] - Solving a Virginia Mystery Using DNA with Paula Williams
DESCRIPTION:Family lore tells a different story than the records for the paternity of a southwest Virginia great-grandfather. Learn how DNA helps solve the mystery! Paula is a professional genealogist who has been researching for more than two decades in primarily southern US states and has been using DNA to solve problems for more than a decade. She has studied at IGHR\, SLIG\, GRIP\, and the Genealogical Institute on Federal Records (Gen-Fed). In addition\, she’s a board member of the Virginia Genealogical Society and of the Genealogical Research Institute of Virginia (GRIVA) and is the facilitator for the latter’s DNA Special Interest Group. She has taught at the IGHR and GRIP institutes and has lectured for the Southern California Genealogical Society’s Genealogy Jamboree and for the National Genealogical Society conference\, among others. She also serves as the Virtual Tech Coordinator for the GRIP Genealogy Institute.Register for FREE at https://tinyurl.com/VGSFeb2025 \n\n\n\n\n\n\n\n\n\n\n\n\n\n 
URL:https://www.vgs.org/event/webinar-12-feb-2025/
CATEGORIES:VGS Events
END:VEVENT
END:VCALENDAR