BEGIN:VCALENDAR
VERSION:2.0
PRODID:-//Virginia Genealogical Society - ECPv6.15.20//NONSGML v1.0//EN
CALSCALE:GREGORIAN
METHOD:PUBLISH
X-WR-CALNAME:Virginia Genealogical Society
X-ORIGINAL-URL:https://www.vgs.org
X-WR-CALDESC:Events for Virginia Genealogical Society
REFRESH-INTERVAL;VALUE=DURATION:PT1H
X-Robots-Tag:noindex
X-PUBLISHED-TTL:PT1H
BEGIN:VTIMEZONE
TZID:America/New_York
BEGIN:DAYLIGHT
TZOFFSETFROM:-0500
TZOFFSETTO:-0400
TZNAME:EDT
DTSTART:20230312T070000
END:DAYLIGHT
BEGIN:STANDARD
TZOFFSETFROM:-0400
TZOFFSETTO:-0500
TZNAME:EST
DTSTART:20231105T060000
END:STANDARD
BEGIN:DAYLIGHT
TZOFFSETFROM:-0500
TZOFFSETTO:-0400
TZNAME:EDT
DTSTART:20240310T070000
END:DAYLIGHT
BEGIN:STANDARD
TZOFFSETFROM:-0400
TZOFFSETTO:-0500
TZNAME:EST
DTSTART:20241103T060000
END:STANDARD
BEGIN:DAYLIGHT
TZOFFSETFROM:-0500
TZOFFSETTO:-0400
TZNAME:EDT
DTSTART:20250309T070000
END:DAYLIGHT
BEGIN:STANDARD
TZOFFSETFROM:-0400
TZOFFSETTO:-0500
TZNAME:EST
DTSTART:20251102T060000
END:STANDARD
END:VTIMEZONE
BEGIN:VEVENT
DTSTART;TZID=America/New_York:20240410T190000
DTEND;TZID=America/New_York:20240410T200000
DTSTAMP:20260425T090554
CREATED:20240329T191157Z
LAST-MODIFIED:20240329T191534Z
UID:4599-1712775600-1712779200@www.vgs.org
SUMMARY:VGS Webinar: Uncovering Identities of an Enslaved African American Family with Tim Kilby [10 Apr 2024]
DESCRIPTION:From the book Gourdvine Black and White\, a case study with resources and research methods . . . and afterthoughts on acknowledgement\, restorative\, and reparative genealogy. \n\n\n\nTimothy Kilby earned degrees from Virginia Tech and Rochester Institute of Technology and had careers in education\, art\, and information technology before retiring in 2014. He grew up in the village of Sperryville\, Rappahannock County\, Virginia\, not far from the homesteads of his Kilby forefathers\, the subjects of decades of his genealogical research. In recent years he has devoted countless hours researching the people and events recounted in Gourdvine Black and White. Tim now lives in Northern Virginia with his wife\, Lois\, and step-grandson\, Caiman. He is active in the U.S. national organization\, Coming to the Table\, which works to heal from slavery’s legacy of deep-rooted racism. One hundred percent of proceeds from the sale of Gourdvine Black and White are donated to the Kilby Family Endowed Scholarship Fund to benefit descendants of the enslaved. \n\n\n\nVGS live webinars are open to all. However\, the handout and recording for each webinar are VGS member benefits. Please do not share the handouts and links to webinar recordings with non-VGS members. Webinars are held the second Wednesday of February\, April\, June\, August\, and December at 7 p.m. Eastern Time. \n\n\n\n			\n				\n					Register for this event.
URL:https://www.vgs.org/event/vgs-webinar-uncovering-identities-of-an-enslaved-african-american-family-with-tim-kilby-10-apr-2024/
CATEGORIES:VGS Events
ATTACH;FMTTYPE=image/png:https://www.vgs.org/wp-content/uploads/2024/03/Kilby_Tim.png
END:VEVENT
END:VCALENDAR