BEGIN:VCALENDAR
VERSION:2.0
PRODID:-//Virginia Genealogical Society - ECPv6.15.20//NONSGML v1.0//EN
CALSCALE:GREGORIAN
METHOD:PUBLISH
X-WR-CALNAME:Virginia Genealogical Society
X-ORIGINAL-URL:https://www.vgs.org
X-WR-CALDESC:Events for Virginia Genealogical Society
REFRESH-INTERVAL;VALUE=DURATION:PT1H
X-Robots-Tag:noindex
X-PUBLISHED-TTL:PT1H
BEGIN:VTIMEZONE
TZID:America/New_York
BEGIN:DAYLIGHT
TZOFFSETFROM:-0500
TZOFFSETTO:-0400
TZNAME:EDT
DTSTART:20250309T070000
END:DAYLIGHT
BEGIN:STANDARD
TZOFFSETFROM:-0400
TZOFFSETTO:-0500
TZNAME:EST
DTSTART:20251102T060000
END:STANDARD
BEGIN:DAYLIGHT
TZOFFSETFROM:-0500
TZOFFSETTO:-0400
TZNAME:EDT
DTSTART:20260308T070000
END:DAYLIGHT
BEGIN:STANDARD
TZOFFSETFROM:-0400
TZOFFSETTO:-0500
TZNAME:EST
DTSTART:20261101T060000
END:STANDARD
BEGIN:DAYLIGHT
TZOFFSETFROM:-0500
TZOFFSETTO:-0400
TZNAME:EDT
DTSTART:20270314T070000
END:DAYLIGHT
BEGIN:STANDARD
TZOFFSETFROM:-0400
TZOFFSETTO:-0500
TZNAME:EST
DTSTART:20271107T060000
END:STANDARD
END:VTIMEZONE
BEGIN:VEVENT
DTSTART;TZID=America/New_York:20260708T190000
DTEND;TZID=America/New_York:20260708T200000
DTSTAMP:20260423T191148
CREATED:20260121T233659Z
LAST-MODIFIED:20260122T015429Z
UID:7143-1783537200-1783540800@www.vgs.org
SUMMARY:VGS: Barbara's Book Club - July Discussion [8 July 2026]
DESCRIPTION:Join us for the fourth meeting of Barbara’s Book Club\, a discussion series exploring Barbara Vines Little’s A Researcher’s Guide to Virginia’s Historical Records. This month’s session\, led by Nicki Peak Birch\, CG®\, will focus on Chapters 7 and 8\, which examine Vital Records and Probate. \nWhether you are new to Virginia research or looking to deepen your understanding of the historical context behind its record systems\, this informal discussion offers an opportunity to learn from fellow researchers and share insights about navigating the complexities of Virginia’s past. All that’s required is your copy of the book\, your questions\, and your curiosity! \nA link to a list of study questions to prompt our discussion will be available here approximately 30 days before the meeting. \nRegister at https://tinyurl.com/VGSBookClubJuly2026
URL:https://www.vgs.org/event/vgs-barbaras-book-club-july-discussion-8-july-2026/
CATEGORIES:VGS Events
ATTACH;FMTTYPE=image/jpeg:https://www.vgs.org/wp-content/uploads/2026/01/a-researchers-guide-to-virginias-historical-records-Presentation-scaled.jpg
END:VEVENT
END:VCALENDAR