BEGIN:VCALENDAR
VERSION:2.0
PRODID:-//Virginia Genealogical Society - ECPv6.15.20//NONSGML v1.0//EN
CALSCALE:GREGORIAN
METHOD:PUBLISH
X-WR-CALNAME:Virginia Genealogical Society
X-ORIGINAL-URL:https://www.vgs.org
X-WR-CALDESC:Events for Virginia Genealogical Society
REFRESH-INTERVAL;VALUE=DURATION:PT1H
X-Robots-Tag:noindex
X-PUBLISHED-TTL:PT1H
BEGIN:VTIMEZONE
TZID:America/New_York
BEGIN:DAYLIGHT
TZOFFSETFROM:-0500
TZOFFSETTO:-0400
TZNAME:EDT
DTSTART:20240310T070000
END:DAYLIGHT
BEGIN:STANDARD
TZOFFSETFROM:-0400
TZOFFSETTO:-0500
TZNAME:EST
DTSTART:20241103T060000
END:STANDARD
BEGIN:DAYLIGHT
TZOFFSETFROM:-0500
TZOFFSETTO:-0400
TZNAME:EDT
DTSTART:20250309T070000
END:DAYLIGHT
BEGIN:STANDARD
TZOFFSETFROM:-0400
TZOFFSETTO:-0500
TZNAME:EST
DTSTART:20251102T060000
END:STANDARD
BEGIN:DAYLIGHT
TZOFFSETFROM:-0500
TZOFFSETTO:-0400
TZNAME:EDT
DTSTART:20260308T070000
END:DAYLIGHT
BEGIN:STANDARD
TZOFFSETFROM:-0400
TZOFFSETTO:-0500
TZNAME:EST
DTSTART:20261101T060000
END:STANDARD
END:VTIMEZONE
BEGIN:VEVENT
DTSTART;TZID=America/New_York:20250426T095000
DTEND;TZID=America/New_York:20250426T160000
DTSTAMP:20260424T141448
CREATED:20241118T184817Z
LAST-MODIFIED:20250424T200953Z
UID:5494-1745661000-1745683200@www.vgs.org
SUMMARY:VGS Spring 2025 Virtual Conference and Annual Meeting [26 Apr 2025]
DESCRIPTION:Registration opens 10 March 2025. Scroll down to purchase a ticket. \n\n\n\nMembers be sure to log into the website before purchasing a ticket so your membership discount will be applied. The discount will be applied when you reach the checkout page. \n\n\n\nThe Zoom link to join the conference and the syllabus will be sent approximately three days before the conference. \n\n\n\nIf you can’t attend the live conference\, no problem! Recordings will be available for 60 days after the conference. \n\n\n\nAll times are Eastern Time.
URL:https://www.vgs.org/event/vgs-spring-2025-virtual-conference-and-annual-meeting-26-apr-2025/
CATEGORIES:VGS Events
ATTACH;FMTTYPE=image/png:https://www.vgs.org/wp-content/uploads/2024/11/2025_Spring_Graphic.png
END:VEVENT
END:VCALENDAR