BEGIN:VCALENDAR
VERSION:2.0
PRODID:-//Virginia Genealogical Society - ECPv6.15.20//NONSGML v1.0//EN
CALSCALE:GREGORIAN
METHOD:PUBLISH
X-ORIGINAL-URL:https://www.vgs.org
X-WR-CALDESC:Events for Virginia Genealogical Society
REFRESH-INTERVAL;VALUE=DURATION:PT1H
X-Robots-Tag:noindex
X-PUBLISHED-TTL:PT1H
BEGIN:VTIMEZONE
TZID:America/New_York
BEGIN:DAYLIGHT
TZOFFSETFROM:-0500
TZOFFSETTO:-0400
TZNAME:EDT
DTSTART:20220313T070000
END:DAYLIGHT
BEGIN:STANDARD
TZOFFSETFROM:-0400
TZOFFSETTO:-0500
TZNAME:EST
DTSTART:20221106T060000
END:STANDARD
BEGIN:DAYLIGHT
TZOFFSETFROM:-0500
TZOFFSETTO:-0400
TZNAME:EDT
DTSTART:20230312T070000
END:DAYLIGHT
BEGIN:STANDARD
TZOFFSETFROM:-0400
TZOFFSETTO:-0500
TZNAME:EST
DTSTART:20231105T060000
END:STANDARD
BEGIN:DAYLIGHT
TZOFFSETFROM:-0500
TZOFFSETTO:-0400
TZNAME:EDT
DTSTART:20240310T070000
END:DAYLIGHT
BEGIN:STANDARD
TZOFFSETFROM:-0400
TZOFFSETTO:-0500
TZNAME:EST
DTSTART:20241103T060000
END:STANDARD
END:VTIMEZONE
BEGIN:VEVENT
DTSTART;TZID=America/New_York:20231028T094500
DTEND;TZID=America/New_York:20231028T152000
DTSTAMP:20260425T200417
CREATED:20230810T155341Z
LAST-MODIFIED:20231028T143649Z
UID:2766-1698486300-1698506400@www.vgs.org
SUMMARY:VGS Fall 2023 Virtual Conference [28 Oct 2023]
DESCRIPTION:PROGRAM \n\n\n\n9:50 a.m.Opening Remarks10:00 a.m. – 11:00 a.m.Finding Virginia’s Wives\, Mothers\, and Sisters – Vic Dunn\, CG11:15 –a.m. 11:30 a.m.BREAK11:30 a.m. – 12:30 p.m.Enslaved Ancestral Research in Virginia and North Carolina? Oh\, Yes You Can! – Renate Yarborough Sanders12:30 p.m. – 1:00 p.m.LUNCH1:00 p.m. – 2:00 p.m.Finding Thomas’s Father Through Records\, Land Platting\, and DNA – Pam Stone Eagleson\, CG2:00 p.m. – 2:15 p.m.BREAK2:15 p.m. – 3:15 p.m.Four Essential Indexes for Virginia Researchers – Leslie Anderson\, MSLS3:15 p.m. – 3:20 p.m.Closing Remarks\n\n\n\n			\n				\n					Registration is now closed.
URL:https://www.vgs.org/event/vgs-fall-conference-save-the-date-28-oct-2023/
CATEGORIES:VGS Events
ATTACH;FMTTYPE=image/png:https://www.vgs.org/wp-content/uploads/2023/10/VGS-2023-VIRTUAL-CONFERENCE-1.png
END:VEVENT
END:VCALENDAR